BEGIN:VCALENDAR
VERSION:2.0
PRODID:-//wp-events-plugin.com//7.2.3.1//EN
TZID:America/New_York
X-WR-TIMEZONE:America/New_York
BEGIN:VEVENT
UID:163@goscin.org
DTSTART;TZID=America/New_York:20251217T120000
DTEND;TZID=America/New_York:20251217T130000
DTSTAMP:20250902T235023Z
URL:https://goscin.org/-events-/womens-virtual-support-group-2025-12-17/
SUMMARY:Women's Virtual Support Group
DESCRIPTION:GOSCIN Women's Spinal Cord Injury Support Group\nNEW TIME SAME 
 DAY\n\nDate: Every 3rd Wednesday of the Month\nTime: 12:00 PM - 1:00 PM\n\
 nJoin us at the GOSCIN Women’s Group!\n\nWe meet every 3rd Wednesday of 
 the month to connect\, support\, and empower one another. Whether you’re
  looking for meaningful conversations\, shared experiences\, or just a sen
 se of community\, we’d love to have you.\n\nMark your calendar and bring
  a friend!\nZoom Meeting Details:\n\n 	Topic: GOSCIN's Personal Meeting Ro
 om\n 	Join Zoom Meeting: https://us02web.zoom.us/j/4796781976?pwd=YVlFbTVr
 U2pZd3lRNlNmL1ZtaTlnUT09\n 	Meeting ID: 479 678 1976\n 	Passcode: 1111\n\n
 One-tap Mobile:\n\n 	+13052241968\,\,4796781976#\,\,\,\,*1111# US\n 	+1929
 2056099\,\,4796781976#\,\,\,\,*1111# US (New York)\n\nDial by Your Locatio
 n:\n\n 	+1 305 224 1968 US\n 	+1 929 205 6099 US (New York)\n 	+1 301 715 
 8592 US (Washington DC)\n 	+1 309 205 3325 US\n 	+1 312 626 6799 US (Chica
 go)\n 	+1 646 931 3860 US\n 	+1 360 209 5623 US\n 	+1 386 347 5053 US\n 	+
 1 507 473 4847 US\n 	+1 564 217 2000 US\n 	+1 669 444 9171 US\n 	+1 669 90
 0 6833 US (San Jose)\n 	+1 689 278 1000 US\n 	+1 719 359 4580 US\n 	+1 253
  205 0468 US\n 	+1 253 215 8782 US (Tacoma)\n 	+1 346 248 7799 US (Houston
 )\n\nMeeting ID: 479 678 1976\nPasscode: 1111\n\nCan't wait to see you all
  there! Let's uplift and support each other on this journey.\n\nWarm regar
 ds\,\nGOSCIN
ATTACH;FMTTYPE=image/jpeg:https://goscin.org/wp-content/uploads/2024/01/IM
 G_0347-e1737404730846.jpeg
CATEGORIES:Virtual
LOCATION:https://us02web.zoom.us/j/4796781976?pwd=YVlFbTVrU2pZd3lRNlNmL1Zta
 TlnUT09
END:VEVENT
BEGIN:VTIMEZONE
TZID:America/New_York
X-LIC-LOCATION:America/New_York
BEGIN:STANDARD
DTSTART:20251102T010000
TZOFFSETFROM:-0400
TZOFFSETTO:-0500
TZNAME:EST
END:STANDARD
END:VTIMEZONE
END:VCALENDAR