BEGIN:VCALENDAR
VERSION:2.0
PRODID:-//wp-events-plugin.com//7.2.3.1//EN
TZID:America/New_York
X-WR-TIMEZONE:America/New_York
BEGIN:VEVENT
UID:131@goscin.org
DTSTART;TZID=America/New_York:20251216T150000
DTEND;TZID=America/New_York:20251216T160000
DTSTAMP:20250124T031029Z
URL:https://goscin.org/-events-/virtual-support-group-third-tuesdays-2025-
 12-16/
SUMMARY:Virtual Support Group Third Tuesdays
DESCRIPTION:Join us on the 3rd Tuesday of every month for our virtual suppo
 rt group via zoom.\n&nbsp\;\n\nJoin Zoom Meeting\n[elementor-template id="
 56702"]\n\nMeeting ID: 479 678 1976\nPasscode: 1111\nOne tap mobile\n\n 	+
 19292056099\,\,4796781976# US (New York)\n 	+13017158592\,\,4796781976# US
  (Washington DC)\n\nDial by your location\n\n 	+1 929 205 6099 US (New Yor
 k)\n 	+1 301 715 8592 US (Washington DC)\n 	+1 312 626 6799 US (Chicago)\n
  	+1 669 900 6833 US (San Jose)\n 	+1 253 215 8782 US (Tacoma)\n 	+1 346 2
 48 7799 US (Houston)\n\nMeeting ID: 479 678 1976\nFind your local number: 
 https://us02web.zoom.us/u/kdIGgxljCk\n\n&nbsp\;
ATTACH;FMTTYPE=image/jpeg:https://goscin.org/wp-content/uploads/2022/02/di
 sabled-man-sitting-in-a-wheelchair-and-using-laptop.jpg
CATEGORIES:All,Virtual
LOCATION:https://us02web.zoom.us/j/4796781976?pwd=YVlFbTVrU2pZd3lRNlNmL1Zta
 TlnUT09
END:VEVENT
BEGIN:VTIMEZONE
TZID:America/New_York
X-LIC-LOCATION:America/New_York
BEGIN:STANDARD
DTSTART:20251102T010000
TZOFFSETFROM:-0400
TZOFFSETTO:-0500
TZNAME:EST
END:STANDARD
END:VTIMEZONE
END:VCALENDAR