BEGIN:VCALENDAR
VERSION:2.0
PRODID:-//wp-events-plugin.com//7.2.3.1//EN
TZID:America/New_York
X-WR-TIMEZONE:America/New_York
BEGIN:VEVENT
UID:221@goscin.org
DTSTART;TZID=America/New_York:20260926T130000
DTEND;TZID=America/New_York:20260926T160000
DTSTAMP:20260401T042408Z
URL:https://goscin.org/-events-/orlando-health-sci-reunion-september-26th/
SUMMARY:Orlando Health SCI Reunion September 26th
DESCRIPTION:Join us for the Orlando Health Spinal Cord Injury Reunion\, a s
 pecial event dedicated to reconnecting individuals\, families\, and care t
 eams within the spinal cord injury community.\n\nDate: Saturday\, Septembe
 r 26\nTime: 1:00 PM to 4:00 PM\nLocation: Orlando Regional Medical Center\
 nMultipurpose Rooms\n\nPlease join us for an afternoon of fun activities\,
  food\, music\, and valuable resources. Most importantly\, we invite you t
 o reunite with Orlando Health staff and connect with other survivors.\n\nA
 ll former patients and loved ones who have been through all or part of the
  Orlando Health rehabilitation system are welcome to attend.\n\nRSVP Infor
 mation\nPlease RSVP by email:\nRobert.Melia@orlandohealth.com\nCori.Quigle
 y@orlandohealth.com\n\nOr by phone:\nRobert: 321-843-2976\n\nWe look forwa
 rd to seeing you there and celebrating this incredible community together.
ATTACH;FMTTYPE=image/jpeg:https://goscin.org/wp-content/uploads/2022/09/Or
 lando-Health-2022__hor_RGB-1.jpg
CATEGORIES:All
LOCATION:Orlando Health Regional Medical Center\, 52 W Underwood St.\, Orla
 ndo\, FL\, 32806\, United States
X-APPLE-STRUCTURED-LOCATION;VALUE=URI;X-ADDRESS=52 W Underwood St.\, Orland
 o\, FL\, 32806\, United States;X-APPLE-RADIUS=100;X-TITLE=Orlando Health R
 egional Medical Center:geo:0,0
END:VEVENT
BEGIN:VTIMEZONE
TZID:America/New_York
X-LIC-LOCATION:America/New_York
BEGIN:DAYLIGHT
DTSTART:20260308T030000
TZOFFSETFROM:-0500
TZOFFSETTO:-0400
TZNAME:EDT
END:DAYLIGHT
END:VTIMEZONE
END:VCALENDAR