BEGIN:VCALENDAR
VERSION:2.0
PRODID:-//wp-events-plugin.com//7.2.3.1//EN
TZID:America/New_York
X-WR-TIMEZONE:America/New_York
BEGIN:VEVENT
UID:218@goscin.org
DTSTART;TZID=America/New_York:20251108T100000
DTEND;TZID=America/New_York:20251108T150000
DTSTAMP:20250903T035404Z
URL:https://goscin.org/-events-/orlando-health-adaptive-sports-expo/
SUMMARY:Orlando Health Adaptive Sports Expo
DESCRIPTION:\n\n&nbsp\;\n\n\nJoin Orlando Health for a free event!\nJoin us
  to learn more about adaptive sports and recreation opportunities in Centr
 al Florida! Discover exciting new activities\, meet local adaptive sports 
 experts\, and try out equipment firsthand in a fun\, supportive environmen
 t.\n\n\nEvent Details\n\n 	Date: Saturday\, November 8\, 2025\n 	Time: 10:
 00 a.m. - 3:00 p.m.\n 	Location: Barnett Park\n4801 W Colonial Dr\, Orland
 o\, FL 32808\n 	View Map\n\n\nSports and Activities\n\n 	Golf\n 	Tennis\n 
 	Cycling\n 	Paddling\n 	Fishing\n 	Disc Golf\n 	Basketball\n 	Boccia &amp\
 ; Cornhole\n 	Track &amp\; Field\n 	Ecorover\n\n\nContact for Questions\nF
 or questions\, contact: R-AdaptiveSports@orlandohealth.com\n\n&nbsp\;\n\n
ATTACH;FMTTYPE=image/jpeg:https://goscin.org/wp-content/uploads/2025/09/un
 named-5.png
CATEGORIES:Adaptive Fitness,All
END:VEVENT
BEGIN:VTIMEZONE
TZID:America/New_York
X-LIC-LOCATION:America/New_York
BEGIN:STANDARD
DTSTART:20251102T010000
TZOFFSETFROM:-0400
TZOFFSETTO:-0500
TZNAME:EST
END:STANDARD
END:VTIMEZONE
END:VCALENDAR