BEGIN:VCALENDAR
VERSION:2.0
PRODID:-//wp-events-plugin.com//7.2.3.1//EN
TZID:America/New_York
X-WR-TIMEZONE:America/New_York
BEGIN:VEVENT
UID:187@goscin.org
DTSTART;TZID=America/New_York:20251224T150000
DTEND;TZID=America/New_York:20251224T170000
DTSTAMP:20250903T010724Z
URL:https://goscin.org/-events-/in-person-support-group-2-2025-12-24/
SUMMARY:In Person Support Group
DESCRIPTION:📅 Monthly In-Person Support Group – Greater Orlando Spinal
  Cord Injury Network\n\n🗓 When: 4th Wednesday of every month\n⏰ Time:
  3:00 PM – 5:00 PM\n🕞 Meeting Time: Starts promptly at 3:30 PM and en
 ds at 4:30 PM\n📍 Where: Neuroscience Institute\n76 W Underwood St\, Orl
 ando\, FL 32806\n\nJoin us each month for our in-person spinal cord injury
  support group\, hosted by the Greater Orlando Spinal Cord Injury Network.
  This group is open to individuals with spinal cord injuries\, their famil
 ies\, and caregivers.\n\n✔️ Connect with others\n✔️ Share and rece
 ive support\n✔️ Discover local resources\n✔️ Enjoy light refreshme
 nts\n\nArrive early to settle in and socialize. The structured group sessi
 on begins promptly at 3:30 PM.
ATTACH;FMTTYPE=image/jpeg:https://goscin.org/wp-content/uploads/2025/07/un
 named-4.png
CATEGORIES:GOSCIN
LOCATION:Neuro Science Institute\, 76 W Underwood St\,\, Orlando\, Florida\
 , 32806\, United States
X-APPLE-STRUCTURED-LOCATION;VALUE=URI;X-ADDRESS=76 W Underwood St\,\, Orlan
 do\, Florida\, 32806\, United States;X-APPLE-RADIUS=100;X-TITLE=Neuro Scie
 nce Institute:geo:0,0
END:VEVENT
BEGIN:VTIMEZONE
TZID:America/New_York
X-LIC-LOCATION:America/New_York
BEGIN:STANDARD
DTSTART:20251102T010000
TZOFFSETFROM:-0400
TZOFFSETTO:-0500
TZNAME:EST
END:STANDARD
END:VTIMEZONE
END:VCALENDAR