BEGIN:VCALENDAR
VERSION:2.0
PRODID:-//wp-events-plugin.com//7.2.3.1//EN
TZID:America/New_York
X-WR-TIMEZONE:America/New_York
BEGIN:VEVENT
UID:139@goscin.org
DTSTART;TZID=America/New_York:20251206T173000
DTEND;TZID=America/New_York:20251206T203000
DTSTAMP:20250903T025409Z
URL:https://goscin.org/-events-/holiday-party/
SUMMARY:Holiday Party
DESCRIPTION:6th December 5:30 - 8:30 pm\n1655 Peel Ave Orlando FL 32806\nGr
 ace Presbyterian Church\n\nJoin us for a special holiday party designed fo
 r individuals with mobility challenges\, spinal cord injuries\, and their 
 friends and family!\n\nDinner will be served at 6:00 PM\, offering a warm 
 and inclusive atmosphere for everyone to enjoy. To add some festive fun\, 
 please bring a present valued between $20 and $30 to participate in our wh
 ite elephant gift exchange.\n\nLet's celebrate the season together with go
 od food\, great company\, and lots of laughter! We look forward to seeing 
 you there!\n\n&nbsp\;
ATTACH;FMTTYPE=image/jpeg:https://goscin.org/wp-content/uploads/2024/11/GO
 SCIN-PRESENTS-OUR-SECOND-ANNUAL-11-x-8.5-in-1.png
CATEGORIES:GOSCIN,Holiday
LOCATION:Grace Presbyterian Church\, 1655 Peel Ave\, Orlando\, FL\, 32806\,
  United States
X-APPLE-STRUCTURED-LOCATION;VALUE=URI;X-ADDRESS=1655 Peel Ave\, Orlando\, F
 L\, 32806\, United States;X-APPLE-RADIUS=100;X-TITLE=Grace Presbyterian Ch
 urch:geo:0,0
END:VEVENT
BEGIN:VTIMEZONE
TZID:America/New_York
X-LIC-LOCATION:America/New_York
BEGIN:STANDARD
DTSTART:20251102T010000
TZOFFSETFROM:-0400
TZOFFSETTO:-0500
TZNAME:EST
END:STANDARD
END:VTIMEZONE
END:VCALENDAR