BEGIN:VCALENDAR
VERSION:2.0
PRODID:-//wp-events-plugin.com//7.2.3.1//EN
TZID:America/New_York
X-WR-TIMEZONE:America/New_York
BEGIN:VEVENT
UID:220@goscin.org
DTSTART;TZID=America/New_York;VALUE=DATE:20260503
DTEND;TZID=America/New_York;VALUE=DATE:20260504
DTSTAMP:20260401T043717Z
URL:https://goscin.org/-events-/core-presents-6th-annual-survival-of-the-f
 ittest-adaptive-competition/
SUMMARY:CORE Presents: 6th Annual Survival of the Fittest Adaptive Competit
 ion
DESCRIPTION:We’re excited to spotlight one of our valued community partne
 rs\, CORE (Center of Recovery &amp\; Exercise)\, as they host their 6th An
 nual Survival of the Fittest Adaptive Fitness Competition\, an inclusive a
 nd empowering event designed for athletes of all ability levels.\n\nDate: 
 Sunday\, May 3\, 2026\nLocation: Lake Mary Performance &amp\; Therapy\n635
  Century Pointe\, Suite 111\nLake Mary\, FL 32746\n\nThis unique competiti
 on brings together adaptive athletes for a day of challenge\, camaraderie\
 , and fun. Whether you are a seasoned competitor or new to adaptive fitnes
 s\, this event welcomes participants who are ready to push themselves in a
  supportive environment.\n\nAthlete Divisions (Male &amp\; Female)\n\n 	Qu
 adriplegic\n 	Paraplegic (without hip function)\n 	Paraplegic (with hip fu
 nction)\n 	Ambulatory\n\nRegistration\nAthletes can register using the fol
 lowing link:\nhttps://pdf.ac/IDCXWnz2X\n\nA registration fee is listed on 
 the form. However\, CORE actively works to secure sponsorships to cover co
 sts for all athletes whenever possible.\n\nTraining Opportunity Included\n
 All registered athletes will receive free access to Adaptive FIT classes t
 o help prepare for the competition.\n\nTraining Dates: April 13 to May 1\n
 Class Schedule: Mondays\, Wednesdays\, and Fridays at 11:00 AM\n\nThis is 
 a great opportunity to practice movements\, build confidence\, and connect
  with the adaptive fitness community ahead of competition day.\n\nFor addi
 tional information or questions about registration\, please contact:\nMale
 rie Robinson\nmalerie@coreflorida.com\n\nCome out to compete\, support\, o
 r cheer on these incredible athletes as they redefine what it means to be 
 fit.\n\n
ATTACH;FMTTYPE=image/jpeg:https://goscin.org/wp-content/uploads/2026/03/SO
 TF26-Flyer-1.png
CATEGORIES:Adaptive Fitness
LOCATION:Lake Mary Performance & Therapy 635 Century Pointe\, 635 Century P
 ointe\, Suite 111 \, Lake Mary\, FL\, 32746\, 
X-APPLE-STRUCTURED-LOCATION;VALUE=URI;X-ADDRESS=635 Century Pointe\, Suite 
 111 \, Lake Mary\, FL\, 32746\, ;X-APPLE-RADIUS=100;X-TITLE=Lake Mary Perf
 ormance & Therapy 635 Century Pointe:geo:0,0
END:VEVENT
BEGIN:VTIMEZONE
TZID:America/New_York
X-LIC-LOCATION:America/New_York
BEGIN:DAYLIGHT
DTSTART:20260308T030000
TZOFFSETFROM:-0500
TZOFFSETTO:-0400
TZNAME:EDT
END:DAYLIGHT
END:VTIMEZONE
END:VCALENDAR