BEGIN:VCALENDAR
VERSION:2.0
PRODID:-//wp-events-plugin.com//7.2.3.1//EN
TZID:America/New_York
X-WR-TIMEZONE:America/New_York
BEGIN:VEVENT
UID:86@goscin.org
DTSTART;TZID=America/New_York:20251011T120000
DTEND;TZID=America/New_York:20251011T160000
DTSTAMP:20251009T002952Z
URL:https://goscin.org/-events-/annual-wheelchair-accessible-fall-picnic/
SUMMARY:Fall Picnic
DESCRIPTION:\n\n\n\n\n\n\n\n&nbsp\;\n\nDate: October 11th\, 2025 Time: 12:0
 0 PM - 4:00 PM\n\nLocation: Mayor Carl T. Langford Park\, Downtown Orlando
 \n\n(Address: 1808 E Central Blvd\, Orlando\, FL 32803)\n\nDescription:\n\
 nJoin us for a day of celebration\, connection\, and the warmth of communi
 ty at the Annual Wheelchair-Accessible Fall Picnic. Nestled in the scenic 
 surroundings of the Mayor Carl T. Langford Park in downtown Orlando\, this
  event is a heartwarming tradition\, welcoming the autumnal hues in the co
 mpany of friends and loved ones.\n\nHosted by the Greater Orlando Spinal C
 ord Injury Network\, we invite individuals with disabilities\, their famil
 ies\, friends\, and caretakers to come together in a spirit of unity and a
 ppreciation. The park\, situated at the heart of the Mayor Carl T. Langfor
 d Center\, is fully accessible\, ensuring a comfortable and enjoyable expe
 rience for all attendees.\n\nHighlights:\n\n 	Accessibility: The entire ev
 ent area is wheelchair-friendly\, ensuring everyone can join in the fun.\n
  	Community: A great opportunity to meet other families\, share stories\, 
 and foster new friendships.\n 	Food &amp\; Fun: Enjoy a delightful spread 
 of picnic favorites along with some fun-filled activities for all ages.\n\
 nThis picnic isn't just about celebrating the season\; it's about recogniz
 ing the strength\, resilience\, and love that binds our community. Whether
  you're an individual with a disability\, a family member\, friend\, or ca
 retaker\, this event is for you. We can't wait to see familiar faces and w
 elcome new ones. Let's make this year's picnic the most memorable one yet!
 \n\nFor more information or any specific accommodation requirements\, plea
 se provide them in the comments section below.\n\nLet's embrace the spirit
  of fall and the power of community. We look forward to seeing you there!\
 n\n\n\n\n\n\n\n&nbsp\;\n\n\n\n\n\n\n
ATTACH;FMTTYPE=image/jpeg:https://goscin.org/wp-content/uploads/2023/10/8-
 7rcWTohL9Nzpl97.png
CATEGORIES:Picnic
LOCATION:Mayor Carl T. Langford Park\, 1808 E Central Boulevard\, Orlando\,
  FL\, 32802\, United States
X-APPLE-STRUCTURED-LOCATION;VALUE=URI;X-ADDRESS=1808 E Central Boulevard\, 
 Orlando\, FL\, 32802\, United States;X-APPLE-RADIUS=100;X-TITLE=Mayor Carl
  T. Langford Park:geo:0,0
END:VEVENT
BEGIN:VTIMEZONE
TZID:America/New_York
X-LIC-LOCATION:America/New_York
BEGIN:DAYLIGHT
DTSTART:20250309T030000
TZOFFSETFROM:-0500
TZOFFSETTO:-0400
TZNAME:EDT
END:DAYLIGHT
END:VTIMEZONE
END:VCALENDAR