BEGIN:VCALENDAR
VERSION:2.0
PRODID:-//wp-events-plugin.com//7.2.3.1//EN
TZID:America/New_York
X-WR-TIMEZONE:America/New_York
BEGIN:VEVENT
UID:219@goscin.org
DTSTART;TZID=America/New_York:20260322T120000
DTEND;TZID=America/New_York:20260322T160000
DTSTAMP:20260302T023640Z
URL:https://goscin.org/-events-/annual-spring-picnic-2026-at-barrnet-park/
SUMMARY:Annual Spring Picnic 2026 at Barnett Park
DESCRIPTION:Don't miss the perfect opportunity to connect with the communit
 y\, enjoy delicious snacks\, and take part in inclusive activities for all
  ages and abilities. Whether you’re living with a spinal cord injury or 
 mobility impairment\, supporting someone who is\, or just want to celebrat
 e a welcoming\, accessible day in the park\, there’s something for every
 one. Good vibes and unforgettable memories!\n\nSunday\, March 22\, 2026\n1
 2:00 PM – 4:00 PM\n\nBarnett Park\nPavilion 4\n4801 W. Colonial Dr.\nOrl
 ando\, FL 32808\n\nRSVPs are required\nreserve your spot today\n\n&nbsp\;\
 n\nWe would like to extend our heartfelt thanks to all of our sponsors.\n\
 n\n\n                    
ATTACH;FMTTYPE=image/jpeg:https://goscin.org/wp-content/uploads/2026/02/Un
 titled-design-1.png
CATEGORIES:Picnic
LOCATION:Barnett Park\, 4801 W Colonial Dr\,\,  Orlando\, Florida\, 32808\,
  United States
X-APPLE-STRUCTURED-LOCATION;VALUE=URI;X-ADDRESS=4801 W Colonial Dr\,\,  Orl
 ando\, Florida\, 32808\, United States;X-APPLE-RADIUS=100;X-TITLE=Barnett 
 Park:geo:0,0
END:VEVENT
BEGIN:VTIMEZONE
TZID:America/New_York
X-LIC-LOCATION:America/New_York
BEGIN:DAYLIGHT
DTSTART:20260308T030000
TZOFFSETFROM:-0500
TZOFFSETTO:-0400
TZNAME:EDT
END:DAYLIGHT
END:VTIMEZONE
END:VCALENDAR