BEGIN:VCALENDAR
VERSION:2.0
PRODID:-//wp-events-plugin.com//7.2.3.1//EN
TZID:America/New_York
X-WR-TIMEZONE:America/New_York
BEGIN:VEVENT
UID:216@goscin.org
DTSTART;TZID=America/New_York:20250927T130000
DTEND;TZID=America/New_York:20250927T160000
DTSTAMP:20250903T000254Z
URL:https://goscin.org/-events-/annual-spinal-cord-injury-rehab-reunion-20
 25/
SUMMARY:Annual Spinal Cord Injury Rehab Reunion 2025
DESCRIPTION:Orlando Health Advanced Rehabilitation Institute’s Annual SCI
  Rehab Reunion wants you to...\nCome Join Us!!\nWhen: Saturday- September 
 27th\, 2025\n\nTime: 1pm to 4pm\n\nWhere: Orlando Regional Medical Center\
 n\nMultipurpose Rooms\n\nPlease join us for an afternoon of fun activities
 \, food\, music and resources. Most importantly\, we invite you\nback to r
 eunite with Orlando Health staff and other survivors. All former patients 
 and loved ones who have\n\nbeen through all or parts of the Orlando Health
  rehab system are welcome to attend.\n\nPlease RSVP via email: Robert.Meli
 a@orlandohealth.com and Cori.Quigley@orlandohealth.com\n\nor by phone: 321
 -843-2976 (Robert)
ATTACH;FMTTYPE=image/jpeg:https://goscin.org/wp-content/uploads/2025/09/SC
 I-Reunion-2025-Flyer-pdf.jpg
CATEGORIES:All
LOCATION:Orlando Regional Medical Center\, 52 W Underwood St\, Orlando\, Fl
 orida\, 32806\, United States
X-APPLE-STRUCTURED-LOCATION;VALUE=URI;X-ADDRESS=52 W Underwood St\, Orlando
 \, Florida\, 32806\, United States;X-APPLE-RADIUS=100;X-TITLE=Orlando Regi
 onal Medical Center:geo:0,0
END:VEVENT
BEGIN:VTIMEZONE
TZID:America/New_York
X-LIC-LOCATION:America/New_York
BEGIN:DAYLIGHT
DTSTART:20250309T030000
TZOFFSETFROM:-0500
TZOFFSETTO:-0400
TZNAME:EDT
END:DAYLIGHT
END:VTIMEZONE
END:VCALENDAR