BEGIN:VCALENDAR
VERSION:2.0
PRODID:-//wp-events-plugin.com//7.2.3.1//EN
TZID:America/New_York
X-WR-TIMEZONE:America/New_York
BEGIN:VEVENT
UID:222@goscin.org
DTSTART;TZID=America/New_York:20260411T160000
DTEND;TZID=America/New_York:20260411T180000
DTSTAMP:20260401T044326Z
URL:https://goscin.org/-events-/adaptive-tennis-clinic-april-11th/
SUMMARY:Adaptive Tennis Clinic April 11th
DESCRIPTION:April Tennis Clinic Flyer April 11\n\nJoin us for an Adaptive T
 ennis Clinic\, an exciting opportunity to learn\, practice\, and enjoy the
  game of tennis in an inclusive and supportive environment.\n\nDate: Satur
 day\, April 11\, 2026\nTime: 4:00 PM to 6:00 PM\nLocation: 2009 Lake Marga
 ret Dr\,\nOrlando\, FL 32806\n\nThis clinic is open to individuals of all 
 ability levels and is designed to promote skill development\, confidence\,
  and community through adaptive sports.\n\nRegistration\nTo sign up\, plea
 se email:\nR-Adaptivesports@orlandohealth.com\n\nQuestions\nFor more infor
 mation\, please contact:\nBob Melia: Robert.Melia@orlandohealth.com\nErin 
 Jones: Erin.Jones@orlandohealth.com\n\nCome out and enjoy an afternoon of 
 tennis\, movement\, and connection with the adaptive sports community.
CATEGORIES:Adaptive Fitness
END:VEVENT
BEGIN:VTIMEZONE
TZID:America/New_York
X-LIC-LOCATION:America/New_York
BEGIN:DAYLIGHT
DTSTART:20260308T030000
TZOFFSETFROM:-0500
TZOFFSETTO:-0400
TZNAME:EDT
END:DAYLIGHT
END:VTIMEZONE
END:VCALENDAR