BEGIN:VCALENDAR
VERSION:2.0
PRODID:-//wp-events-plugin.com//7.2.3.1//EN
TZID:America/New_York
X-WR-TIMEZONE:America/New_York
BEGIN:VEVENT
UID:217@goscin.org
DTSTART;TZID=America/New_York:20251017T110000
DTEND;TZID=America/New_York:20251019T170000
DTSTAMP:20250903T011612Z
URL:https://goscin.org/-events-/abilities-expo/
SUMMARY:Abilities Expo
DESCRIPTION:Event Details\n&nbsp\;\n\nLocation: Broward County Convention C
 enter\, Hall A\, Fort Lauderdale\, FL\n\nDates: October 17-19\, 2025\n\nTi
 mes:\n\n 	Friday: 11:00 AM - 5:00 PM\n 	Saturday: 11:00 AM - 5:00 PM\n 	Su
 nday: 11:00 AM - 4:00 PM\n\n\n\n\n&nbsp\;\nAbout the Event\n&nbsp\;\n\nThr
 ee days. One roof. Endless access to the latest products\, technologies\, 
 and resources for the disability community! This is your opportunity to co
 nnect with experts\, discover new innovations\, and find support all in on
 e place.\n\n&nbsp\;\nWhat to Expect\n&nbsp\;\n\n 	An accessible climbing w
 all\n 	A ton of adaptive sports demonstrations and opportunities\n 	Info-p
 acked workshops on a variety of topics\n 	Disability-focused products\, se
 rvices\, and technologies\n 	Opportunities to connect with the local disab
 ility community\n\nIt’s an epic day out and FREE\, so register today!\n\
 nCHECK OUT THE EXPO HERE
ATTACH;FMTTYPE=image/jpeg:https://goscin.org/wp-content/uploads/2025/09/am
 putee-show-topper.jpg
CATEGORIES:All
END:VEVENT
BEGIN:VTIMEZONE
TZID:America/New_York
X-LIC-LOCATION:America/New_York
BEGIN:DAYLIGHT
DTSTART:20250309T030000
TZOFFSETFROM:-0500
TZOFFSETTO:-0400
TZNAME:EDT
END:DAYLIGHT
END:VTIMEZONE
END:VCALENDAR